BEGIN:VCALENDAR
VERSION:2.0
PRODID:-//Administrators Association San Diego City Schools - AASDCS - ECPv6.15.12.2//NONSGML v1.0//EN
CALSCALE:GREGORIAN
METHOD:PUBLISH
X-WR-CALNAME:Administrators Association San Diego City Schools - AASDCS
X-ORIGINAL-URL:https://aasdcs.org
X-WR-CALDESC:Events for Administrators Association San Diego City Schools - AASDCS
REFRESH-INTERVAL;VALUE=DURATION:PT1H
X-Robots-Tag:noindex
X-PUBLISHED-TTL:PT1H
BEGIN:VTIMEZONE
TZID:America/Los_Angeles
BEGIN:DAYLIGHT
TZOFFSETFROM:-0800
TZOFFSETTO:-0700
TZNAME:PDT
DTSTART:20120311T100000
END:DAYLIGHT
BEGIN:STANDARD
TZOFFSETFROM:-0700
TZOFFSETTO:-0800
TZNAME:PST
DTSTART:20121104T090000
END:STANDARD
BEGIN:DAYLIGHT
TZOFFSETFROM:-0800
TZOFFSETTO:-0700
TZNAME:PDT
DTSTART:20130310T100000
END:DAYLIGHT
BEGIN:STANDARD
TZOFFSETFROM:-0700
TZOFFSETTO:-0800
TZNAME:PST
DTSTART:20131103T090000
END:STANDARD
BEGIN:DAYLIGHT
TZOFFSETFROM:-0800
TZOFFSETTO:-0700
TZNAME:PDT
DTSTART:20140309T100000
END:DAYLIGHT
BEGIN:STANDARD
TZOFFSETFROM:-0700
TZOFFSETTO:-0800
TZNAME:PST
DTSTART:20141102T090000
END:STANDARD
END:VTIMEZONE
BEGIN:VEVENT
DTSTART;TZID=America/Los_Angeles:20130611T140000
DTEND;TZID=America/Los_Angeles:20130611T150000
DTSTAMP:20260420T141203
CREATED:20130208T035609Z
LAST-MODIFIED:20130208T035609Z
UID:367-1370959200-1370962800@aasdcs.org
SUMMARY:Retiree Network Committee Meeting
DESCRIPTION:
URL:https://aasdcs.org/event/retiree-network-committee-meeting-5/
LOCATION:AASD\,  3505 Camino Del Rio South Suite 264\, San Diego\, CA\, 92108\, United States
CATEGORIES:Retiree Network Committee
ORGANIZER;CN="AASD":MAILTO:info@aasdcs.org
END:VEVENT
BEGIN:VEVENT
DTSTART;TZID=America/Los_Angeles:20130611T153000
DTEND;TZID=America/Los_Angeles:20130611T163000
DTSTAMP:20260420T141203
CREATED:20130208T035200Z
LAST-MODIFIED:20130208T035200Z
UID:363-1370964600-1370968200@aasdcs.org
SUMMARY:Member Relations Comm. Meeting
DESCRIPTION:
URL:https://aasdcs.org/event/member-relations-comm-meeting-4/
LOCATION:AASD\,  3505 Camino Del Rio South Suite 264\, San Diego\, CA\, 92108\, United States
CATEGORIES:Member Relations Committee
ORGANIZER;CN="AASD":MAILTO:info@aasdcs.org
END:VEVENT
BEGIN:VEVENT
DTSTART;TZID=America/Los_Angeles:20130612T073000
DTEND;TZID=America/Los_Angeles:20130612T083000
DTSTAMP:20260420T141203
CREATED:20130208T034354Z
LAST-MODIFIED:20130208T034354Z
UID:359-1371022200-1371025800@aasdcs.org
SUMMARY:Professional Development Comm. Mtg.
DESCRIPTION:
URL:https://aasdcs.org/event/professional-development-comm-mtg-5/
LOCATION:AASD\,  3505 Camino Del Rio South Suite 264\, San Diego\, CA\, 92108\, United States
CATEGORIES:Professional Development Comm. Mtg.
ORGANIZER;CN="AASD":MAILTO:info@aasdcs.org
END:VEVENT
BEGIN:VEVENT
DTSTART;TZID=America/Los_Angeles:20130613T163000
DTEND;TZID=America/Los_Angeles:20130613T190000
DTSTAMP:20260420T141203
CREATED:20130315T002459Z
LAST-MODIFIED:20130604T130042Z
UID:501-1371141000-1371150000@aasdcs.org
SUMMARY:Summerfest/Retirement Celebration
DESCRIPTION:View Event Flyer
URL:https://aasdcs.org/event/summerfestretirement-celebration/
LOCATION:Bali Hai Resort\, 2230 Shelter Island Dr\, San Diego\, CA\, 92106\, United States
CATEGORIES:Celebration
ORGANIZER;CN="AASD":MAILTO:info@aasdcs.org
END:VEVENT
BEGIN:VEVENT
DTSTART;TZID=America/Los_Angeles:20130619T150000
DTEND;TZID=America/Los_Angeles:20130619T163000
DTSTAMP:20260420T141203
CREATED:20130205T065355Z
LAST-MODIFIED:20130208T034508Z
UID:273-1371654000-1371659400@aasdcs.org
SUMMARY:Board of Directors Meeting
DESCRIPTION:
URL:https://aasdcs.org/event/board-of-directors-meeting-9/
LOCATION:AASD\,  3505 Camino Del Rio South Suite 264\, San Diego\, CA\, 92108\, United States
CATEGORIES:Board of Directors Meeting
ORGANIZER;CN="AASD":MAILTO:info@aasdcs.org
END:VEVENT
END:VCALENDAR