BEGIN:VCALENDAR
VERSION:2.0
PRODID:-//Administrators Association San Diego City Schools - AASDCS - ECPv6.15.12.2//NONSGML v1.0//EN
CALSCALE:GREGORIAN
METHOD:PUBLISH
X-WR-CALNAME:Administrators Association San Diego City Schools - AASDCS
X-ORIGINAL-URL:https://aasdcs.org
X-WR-CALDESC:Events for Administrators Association San Diego City Schools - AASDCS
REFRESH-INTERVAL;VALUE=DURATION:PT1H
X-Robots-Tag:noindex
X-PUBLISHED-TTL:PT1H
BEGIN:VTIMEZONE
TZID:America/Los_Angeles
BEGIN:DAYLIGHT
TZOFFSETFROM:-0800
TZOFFSETTO:-0700
TZNAME:PDT
DTSTART:20130310T100000
END:DAYLIGHT
BEGIN:STANDARD
TZOFFSETFROM:-0700
TZOFFSETTO:-0800
TZNAME:PST
DTSTART:20131103T090000
END:STANDARD
BEGIN:DAYLIGHT
TZOFFSETFROM:-0800
TZOFFSETTO:-0700
TZNAME:PDT
DTSTART:20140309T100000
END:DAYLIGHT
BEGIN:STANDARD
TZOFFSETFROM:-0700
TZOFFSETTO:-0800
TZNAME:PST
DTSTART:20141102T090000
END:STANDARD
BEGIN:DAYLIGHT
TZOFFSETFROM:-0800
TZOFFSETTO:-0700
TZNAME:PDT
DTSTART:20150308T100000
END:DAYLIGHT
BEGIN:STANDARD
TZOFFSETFROM:-0700
TZOFFSETTO:-0800
TZNAME:PST
DTSTART:20151101T090000
END:STANDARD
END:VTIMEZONE
BEGIN:VEVENT
DTSTART;TZID=America/Los_Angeles:20140408T140000
DTEND;TZID=America/Los_Angeles:20140408T150000
DTSTAMP:20260419T155944
CREATED:20130927T031900Z
LAST-MODIFIED:20130927T031900Z
UID:910-1396965600-1396969200@aasdcs.org
SUMMARY:Retiree Network Committee Meeting
DESCRIPTION:
URL:https://aasdcs.org/event/retiree-network-committee-meeting-13/
LOCATION:AASD\,  3505 Camino Del Rio South Suite 264\, San Diego\, CA\, 92108\, United States
CATEGORIES:Retiree Network Committee
ORGANIZER;CN="AASD":MAILTO:info@aasdcs.org
END:VEVENT
BEGIN:VEVENT
DTSTART;TZID=America/Los_Angeles:20140408T153000
DTEND;TZID=America/Los_Angeles:20140408T163000
DTSTAMP:20260419T155944
CREATED:20130927T025008Z
LAST-MODIFIED:20130927T025008Z
UID:887-1396971000-1396974600@aasdcs.org
SUMMARY:Member Relations Committee Meeting
DESCRIPTION:
URL:https://aasdcs.org/event/member-relations-committee-meeting-9/
LOCATION:AASD\,  3505 Camino Del Rio South Suite 264\, San Diego\, CA\, 92108\, United States
CATEGORIES:Member Relations Committee
ORGANIZER;CN="AASD":MAILTO:info@aasdcs.org
END:VEVENT
BEGIN:VEVENT
DTSTART;TZID=America/Los_Angeles:20140409T073000
DTEND;TZID=America/Los_Angeles:20140409T083000
DTSTAMP:20260419T155944
CREATED:20130927T030541Z
LAST-MODIFIED:20130927T030541Z
UID:898-1397028600-1397032200@aasdcs.org
SUMMARY:Professional Development Meeting
DESCRIPTION:
URL:https://aasdcs.org/event/professional-development-meeting-8/
LOCATION:AASD\,  3505 Camino Del Rio South Suite 264\, San Diego\, CA\, 92108\, United States
CATEGORIES:Professional Development Comm. Mtg.
ORGANIZER;CN="AASD":MAILTO:info@aasdcs.org
END:VEVENT
BEGIN:VEVENT
DTSTART;TZID=America/Los_Angeles:20140416T150000
DTEND;TZID=America/Los_Angeles:20140416T163000
DTSTAMP:20260419T155944
CREATED:20130927T023422Z
LAST-MODIFIED:20130927T023422Z
UID:877-1397660400-1397665800@aasdcs.org
SUMMARY:Board of Directors Meeting
DESCRIPTION:
URL:https://aasdcs.org/event/board-of-directors-meeting-17/
LOCATION:AASD\,  3505 Camino Del Rio South Suite 264\, San Diego\, CA\, 92108\, United States
CATEGORIES:Board of Directors Meeting
ORGANIZER;CN="AASD":MAILTO:info@aasdcs.org
END:VEVENT
BEGIN:VEVENT
DTSTART;TZID=America/Los_Angeles:20140428T080000
DTEND;TZID=America/Los_Angeles:20140428T121500
DTSTAMP:20260419T155944
CREATED:20140313T040807Z
LAST-MODIFIED:20140313T040807Z
UID:995-1398672000-1398687300@aasdcs.org
SUMMARY:Professional Development for School Leaders
DESCRIPTION:View Event Flyer
URL:https://aasdcs.org/event/professional-development-for-school-leaders/
LOCATION:NCREC\, 255 Pico Avenue\, San Marcos\, CA\, 92069\, United States
CATEGORIES:Professional Development for School Leaders
ORGANIZER;CN="AASD":MAILTO:info@aasdcs.org
END:VEVENT
END:VCALENDAR