BEGIN:VCALENDAR
VERSION:2.0
PRODID:-//Administrators Association San Diego City Schools - AASDCS - ECPv6.15.12.2//NONSGML v1.0//EN
CALSCALE:GREGORIAN
METHOD:PUBLISH
X-ORIGINAL-URL:https://aasdcs.org
X-WR-CALDESC:Events for Administrators Association San Diego City Schools - AASDCS
REFRESH-INTERVAL;VALUE=DURATION:PT1H
X-Robots-Tag:noindex
X-PUBLISHED-TTL:PT1H
BEGIN:VTIMEZONE
TZID:America/Los_Angeles
BEGIN:DAYLIGHT
TZOFFSETFROM:-0800
TZOFFSETTO:-0700
TZNAME:PDT
DTSTART:20130310T100000
END:DAYLIGHT
BEGIN:STANDARD
TZOFFSETFROM:-0700
TZOFFSETTO:-0800
TZNAME:PST
DTSTART:20131103T090000
END:STANDARD
BEGIN:DAYLIGHT
TZOFFSETFROM:-0800
TZOFFSETTO:-0700
TZNAME:PDT
DTSTART:20140309T100000
END:DAYLIGHT
BEGIN:STANDARD
TZOFFSETFROM:-0700
TZOFFSETTO:-0800
TZNAME:PST
DTSTART:20141102T090000
END:STANDARD
BEGIN:DAYLIGHT
TZOFFSETFROM:-0800
TZOFFSETTO:-0700
TZNAME:PDT
DTSTART:20150308T100000
END:DAYLIGHT
BEGIN:STANDARD
TZOFFSETFROM:-0700
TZOFFSETTO:-0800
TZNAME:PST
DTSTART:20151101T090000
END:STANDARD
END:VTIMEZONE
BEGIN:VEVENT
DTSTART;TZID=America/Los_Angeles:20140502T170000
DTEND;TZID=America/Los_Angeles:20140502T210000
DTSTAMP:20260419T135813
CREATED:20140314T014126Z
LAST-MODIFIED:20140314T014126Z
UID:1000-1399050000-1399064400@aasdcs.org
SUMMARY:12th Annual “Honoring Our Own” Awards Dinner
DESCRIPTION:View Event Flyer
URL:https://aasdcs.org/event/12th-annual-honoring-our-own-awards-dinner/
LOCATION:Sheraton San Diego Hotel and Marina\, 1380 Harbor Island Dr\, San Diego\, CA\, 92101\, United States
CATEGORIES:Honoring Our Own Awards
ORGANIZER;CN="AASD":MAILTO:info@aasdcs.org
END:VEVENT
BEGIN:VEVENT
DTSTART;TZID=America/Los_Angeles:20140508T073000
DTEND;TZID=America/Los_Angeles:20140508T120000
DTSTAMP:20260419T135813
CREATED:20140213T045705Z
LAST-MODIFIED:20140321T061321Z
UID:982-1399534200-1399550400@aasdcs.org
SUMMARY:Administrators Spring Conference
DESCRIPTION:View Event Flyer
URL:https://aasdcs.org/event/administrators-spring-conference/
LOCATION:Scottish Rite Event Center\, 1895 Camino del Rio South\, San Diego (Mission Valley)\, 92108
CATEGORIES:Administrators Spring Conference
ORGANIZER;CN="AASD":MAILTO:info@aasdcs.org
END:VEVENT
BEGIN:VEVENT
DTSTART;TZID=America/Los_Angeles:20140513T140000
DTEND;TZID=America/Los_Angeles:20140513T150000
DTSTAMP:20260419T135813
CREATED:20130927T032010Z
LAST-MODIFIED:20130927T032010Z
UID:911-1399989600-1399993200@aasdcs.org
SUMMARY:Retiree Network Committee Meeting
DESCRIPTION:
URL:https://aasdcs.org/event/retiree-network-committee-meeting-14/
LOCATION:AASD\,  3505 Camino Del Rio South Suite 264\, San Diego\, CA\, 92108\, United States
CATEGORIES:Retiree Network Committee
ORGANIZER;CN="AASD":MAILTO:info@aasdcs.org
END:VEVENT
BEGIN:VEVENT
DTSTART;TZID=America/Los_Angeles:20140513T153000
DTEND;TZID=America/Los_Angeles:20140513T163000
DTSTAMP:20260419T135813
CREATED:20130927T025115Z
LAST-MODIFIED:20130927T025115Z
UID:888-1399995000-1399998600@aasdcs.org
SUMMARY:Member Relations Committee Meeting
DESCRIPTION:
URL:https://aasdcs.org/event/member-relations-committee-meeting-10/
LOCATION:AASD\,  3505 Camino Del Rio South Suite 264\, San Diego\, CA\, 92108\, United States
CATEGORIES:Member Relations Committee
ORGANIZER;CN="AASD":MAILTO:info@aasdcs.org
END:VEVENT
BEGIN:VEVENT
DTSTART;TZID=America/Los_Angeles:20140514T073000
DTEND;TZID=America/Los_Angeles:20140514T083000
DTSTAMP:20260419T135813
CREATED:20130927T030639Z
LAST-MODIFIED:20130927T030639Z
UID:899-1400052600-1400056200@aasdcs.org
SUMMARY:Professional Development Meeting
DESCRIPTION:
URL:https://aasdcs.org/event/professional-development-meeting-9/
LOCATION:AASD\,  3505 Camino Del Rio South Suite 264\, San Diego\, CA\, 92108\, United States
CATEGORIES:Professional Development Comm. Mtg.
ORGANIZER;CN="AASD":MAILTO:info@aasdcs.org
END:VEVENT
BEGIN:VEVENT
DTSTART;TZID=America/Los_Angeles:20140515T163000
DTEND;TZID=America/Los_Angeles:20140515T190000
DTSTAMP:20260419T135813
CREATED:20130814T050236Z
LAST-MODIFIED:20140514T052714Z
UID:792-1400171400-1400180400@aasdcs.org
SUMMARY:Spring General Membership Meeting
DESCRIPTION:View Event Flyer
URL:https://aasdcs.org/event/spring-general-membership-meeting/
LOCATION:Mission Valley Resort\, 875 Hotel Circle South\, San Diego\, CA\, 92108\, United States
CATEGORIES:Membership Meeting
ORGANIZER;CN="AASD":MAILTO:info@aasdcs.org
END:VEVENT
BEGIN:VEVENT
DTSTART;TZID=America/Los_Angeles:20140521T150000
DTEND;TZID=America/Los_Angeles:20140521T163000
DTSTAMP:20260419T135813
CREATED:20130927T023545Z
LAST-MODIFIED:20130927T023545Z
UID:878-1400684400-1400689800@aasdcs.org
SUMMARY:Board of Directors Meeting
DESCRIPTION:
URL:https://aasdcs.org/event/board-of-directors-meeting-18/
LOCATION:AASD\,  3505 Camino Del Rio South Suite 264\, San Diego\, CA\, 92108\, United States
CATEGORIES:Board of Directors Meeting
ORGANIZER;CN="AASD":MAILTO:info@aasdcs.org
END:VEVENT
END:VCALENDAR