BEGIN:VCALENDAR
VERSION:2.0
PRODID:-//Administrators Association San Diego City Schools - AASDCS - ECPv6.15.12.2//NONSGML v1.0//EN
CALSCALE:GREGORIAN
METHOD:PUBLISH
X-WR-CALNAME:Administrators Association San Diego City Schools - AASDCS
X-ORIGINAL-URL:https://aasdcs.org
X-WR-CALDESC:Events for Administrators Association San Diego City Schools - AASDCS
REFRESH-INTERVAL;VALUE=DURATION:PT1H
X-Robots-Tag:noindex
X-PUBLISHED-TTL:PT1H
BEGIN:VTIMEZONE
TZID:America/Los_Angeles
BEGIN:DAYLIGHT
TZOFFSETFROM:-0800
TZOFFSETTO:-0700
TZNAME:PDT
DTSTART:20130310T100000
END:DAYLIGHT
BEGIN:STANDARD
TZOFFSETFROM:-0700
TZOFFSETTO:-0800
TZNAME:PST
DTSTART:20131103T090000
END:STANDARD
BEGIN:DAYLIGHT
TZOFFSETFROM:-0800
TZOFFSETTO:-0700
TZNAME:PDT
DTSTART:20140309T100000
END:DAYLIGHT
BEGIN:STANDARD
TZOFFSETFROM:-0700
TZOFFSETTO:-0800
TZNAME:PST
DTSTART:20141102T090000
END:STANDARD
BEGIN:DAYLIGHT
TZOFFSETFROM:-0800
TZOFFSETTO:-0700
TZNAME:PDT
DTSTART:20150308T100000
END:DAYLIGHT
BEGIN:STANDARD
TZOFFSETFROM:-0700
TZOFFSETTO:-0800
TZNAME:PST
DTSTART:20151101T090000
END:STANDARD
END:VTIMEZONE
BEGIN:VEVENT
DTSTART;TZID=America/Los_Angeles:20140610T140000
DTEND;TZID=America/Los_Angeles:20140610T150000
DTSTAMP:20260419T120352
CREATED:20130927T032107Z
LAST-MODIFIED:20130927T032107Z
UID:912-1402408800-1402412400@aasdcs.org
SUMMARY:Retiree Network Committee Meeting
DESCRIPTION:
URL:https://aasdcs.org/event/retiree-network-committee-meeting-15/
LOCATION:AASD\,  3505 Camino Del Rio South Suite 264\, San Diego\, CA\, 92108\, United States
CATEGORIES:Retiree Network Committee
ORGANIZER;CN="AASD":MAILTO:info@aasdcs.org
END:VEVENT
BEGIN:VEVENT
DTSTART;TZID=America/Los_Angeles:20140610T153000
DTEND;TZID=America/Los_Angeles:20140610T163000
DTSTAMP:20260419T120352
CREATED:20130927T025226Z
LAST-MODIFIED:20130927T025226Z
UID:889-1402414200-1402417800@aasdcs.org
SUMMARY:Member Relations Committee Meeting
DESCRIPTION:
URL:https://aasdcs.org/event/member-relations-committee-meeting-11/
LOCATION:AASD\,  3505 Camino Del Rio South Suite 264\, San Diego\, CA\, 92108\, United States
CATEGORIES:Member Relations Committee
ORGANIZER;CN="AASD":MAILTO:info@aasdcs.org
END:VEVENT
BEGIN:VEVENT
DTSTART;TZID=America/Los_Angeles:20140611T073000
DTEND;TZID=America/Los_Angeles:20140611T083000
DTSTAMP:20260419T120352
CREATED:20130927T030748Z
LAST-MODIFIED:20130927T030748Z
UID:900-1402471800-1402475400@aasdcs.org
SUMMARY:Professional Development Meeting
DESCRIPTION:
URL:https://aasdcs.org/event/professional-development-meeting-10/
LOCATION:AASD\,  3505 Camino Del Rio South Suite 264\, San Diego\, CA\, 92108\, United States
CATEGORIES:Professional Development Comm. Mtg.
ORGANIZER;CN="AASD":MAILTO:info@aasdcs.org
END:VEVENT
BEGIN:VEVENT
DTSTART;TZID=America/Los_Angeles:20140613T170000
DTEND;TZID=America/Los_Angeles:20140613T220000
DTSTAMP:20260419T120352
CREATED:20130926T080242Z
LAST-MODIFIED:20140605T003518Z
UID:852-1402678800-1402696800@aasdcs.org
SUMMARY:End of year BBQ
DESCRIPTION:View Event Flyer\n\n\n\nSummerfest Driving Directions
URL:https://aasdcs.org/event/end-of-year-bbq/
LOCATION:Marina Village\, 1936 Quivira Way\, San Diego\, CA\, 92109\, United States
CATEGORIES:Member Relations Committee
ORGANIZER;CN="AASD":MAILTO:info@aasdcs.org
END:VEVENT
BEGIN:VEVENT
DTSTART;TZID=America/Los_Angeles:20140618T150000
DTEND;TZID=America/Los_Angeles:20140618T163000
DTSTAMP:20260419T120352
CREATED:20130927T023705Z
LAST-MODIFIED:20130927T023705Z
UID:879-1403103600-1403109000@aasdcs.org
SUMMARY:Board of Directors Meeting
DESCRIPTION:
URL:https://aasdcs.org/event/board-of-directors-meeting-19/
LOCATION:AASD\,  3505 Camino Del Rio South Suite 264\, San Diego\, CA\, 92108\, United States
CATEGORIES:Board of Directors Meeting
ORGANIZER;CN="AASD":MAILTO:info@aasdcs.org
END:VEVENT
END:VCALENDAR