BEGIN:VCALENDAR
VERSION:2.0
PRODID:-//Administrators Association San Diego City Schools - AASDCS - ECPv6.15.12.2//NONSGML v1.0//EN
CALSCALE:GREGORIAN
METHOD:PUBLISH
X-WR-CALNAME:Administrators Association San Diego City Schools - AASDCS
X-ORIGINAL-URL:https://aasdcs.org
X-WR-CALDESC:Events for Administrators Association San Diego City Schools - AASDCS
REFRESH-INTERVAL;VALUE=DURATION:PT1H
X-Robots-Tag:noindex
X-PUBLISHED-TTL:PT1H
BEGIN:VTIMEZONE
TZID:America/Los_Angeles
BEGIN:DAYLIGHT
TZOFFSETFROM:-0800
TZOFFSETTO:-0700
TZNAME:PDT
DTSTART:20130310T100000
END:DAYLIGHT
BEGIN:STANDARD
TZOFFSETFROM:-0700
TZOFFSETTO:-0800
TZNAME:PST
DTSTART:20131103T090000
END:STANDARD
BEGIN:DAYLIGHT
TZOFFSETFROM:-0800
TZOFFSETTO:-0700
TZNAME:PDT
DTSTART:20140309T100000
END:DAYLIGHT
BEGIN:STANDARD
TZOFFSETFROM:-0700
TZOFFSETTO:-0800
TZNAME:PST
DTSTART:20141102T090000
END:STANDARD
BEGIN:DAYLIGHT
TZOFFSETFROM:-0800
TZOFFSETTO:-0700
TZNAME:PDT
DTSTART:20150308T100000
END:DAYLIGHT
BEGIN:STANDARD
TZOFFSETFROM:-0700
TZOFFSETTO:-0800
TZNAME:PST
DTSTART:20151101T090000
END:STANDARD
END:VTIMEZONE
BEGIN:VEVENT
DTSTART;VALUE=DATE:20140901
DTEND;VALUE=DATE:20140902
DTSTAMP:20260419T052727
CREATED:20140814T103232Z
LAST-MODIFIED:20140814T103232Z
UID:1249-1409529600-1409615999@aasdcs.org
SUMMARY:Holiday (Labor Day)
DESCRIPTION:
URL:https://aasdcs.org/event/holiday-labor-day/
LOCATION:AASD\,  3505 Camino Del Rio South Suite 264\, San Diego\, CA\, 92108\, United States
CATEGORIES:Holiday Labor Day
ORGANIZER;CN="AASD":MAILTO:info@aasdcs.org
END:VEVENT
BEGIN:VEVENT
DTSTART;VALUE=DATE:20140902
DTEND;VALUE=DATE:20140903
DTSTAMP:20260419T052727
CREATED:20140814T103314Z
LAST-MODIFIED:20140814T103314Z
UID:1250-1409616000-1409702399@aasdcs.org
SUMMARY:School Opens
DESCRIPTION:
URL:https://aasdcs.org/event/school-opens/
LOCATION:AASD\,  3505 Camino Del Rio South Suite 264\, San Diego\, CA\, 92108\, United States
ORGANIZER;CN="AASD":MAILTO:info@aasdcs.org
END:VEVENT
BEGIN:VEVENT
DTSTART;TZID=America/Los_Angeles:20140909T140000
DTEND;TZID=America/Los_Angeles:20140909T153000
DTSTAMP:20260419T052727
CREATED:20140812T031211Z
LAST-MODIFIED:20140812T031211Z
UID:1170-1410271200-1410276600@aasdcs.org
SUMMARY:Retiree Network Committee Meeting
DESCRIPTION:
URL:https://aasdcs.org/event/retiree-network-committee-meeting-16/
LOCATION:AASD\,  3505 Camino Del Rio South Suite 264\, San Diego\, CA\, 92108\, United States
CATEGORIES:Retiree Network Committee
ORGANIZER;CN="AASD":MAILTO:info@aasdcs.org
END:VEVENT
BEGIN:VEVENT
DTSTART;TZID=America/Los_Angeles:20140909T153000
DTEND;TZID=America/Los_Angeles:20140909T170000
DTSTAMP:20260419T052727
CREATED:20140812T031305Z
LAST-MODIFIED:20140812T031305Z
UID:1171-1410276600-1410282000@aasdcs.org
SUMMARY:Member Relations Committee Meeting
DESCRIPTION:
URL:https://aasdcs.org/event/member-relations-committee-meeting-14/
LOCATION:AASD\,  3505 Camino Del Rio South Suite 264\, San Diego\, CA\, 92108\, United States
CATEGORIES:Member Relations Committee
ORGANIZER;CN="AASD":MAILTO:info@aasdcs.org
END:VEVENT
BEGIN:VEVENT
DTSTART;TZID=America/Los_Angeles:20140910T073000
DTEND;TZID=America/Los_Angeles:20140910T083000
DTSTAMP:20260419T052727
CREATED:20140812T031417Z
LAST-MODIFIED:20140812T031417Z
UID:1172-1410334200-1410337800@aasdcs.org
SUMMARY:Professional Development Committee Meeting
DESCRIPTION:
URL:https://aasdcs.org/event/professional-development-committee-meeting-4/
LOCATION:AASD\,  3505 Camino Del Rio South Suite 264\, San Diego\, CA\, 92108\, United States
CATEGORIES:Professional Development Comm. Mtg.
ORGANIZER;CN="AASD":MAILTO:info@aasdcs.org
END:VEVENT
BEGIN:VEVENT
DTSTART;TZID=America/Los_Angeles:20140917T150000
DTEND;TZID=America/Los_Angeles:20140917T163000
DTSTAMP:20260419T052727
CREATED:20140812T031524Z
LAST-MODIFIED:20140812T031524Z
UID:1173-1410966000-1410971400@aasdcs.org
SUMMARY:Board of Directors Meeting
DESCRIPTION:
URL:https://aasdcs.org/event/board-of-directors-meeting-20/
LOCATION:AASD\,  3505 Camino Del Rio South Suite 264\, San Diego\, CA\, 92108\, United States
CATEGORIES:Board of Directors Meeting
ORGANIZER;CN="AASD":MAILTO:info@aasdcs.org
END:VEVENT
END:VCALENDAR